BEGIN:VCALENDAR
VERSION:2.0
PRODID:-//ChamberMaster//Event Calendar 2.0//EN
METHOD:PUBLISH
X-PUBLISHED-TTL:P1H
REFRESH-INTERVAL:P1H
CALSCALE:GREGORIAN
BEGIN:VTIMEZONE
TZID:America/Chicago
BEGIN:DAYLIGHT
RRULE:FREQ=YEARLY;BYMONTH=3;BYDAY=2SU
DTSTART:20070101T000000
TZOFFSETFROM:-0600
TZOFFSETTO:-0500
TZNAME:Central Daylight Time
END:DAYLIGHT
BEGIN:STANDARD
RRULE:FREQ=YEARLY;BYMONTH=11;BYDAY=1SU
DTSTART:20070101T000000
TZOFFSETFROM:-0500
TZOFFSETTO:-0600
TZNAME:Central Standard Time
END:STANDARD
END:VTIMEZONE
BEGIN:VEVENT
DTSTART;TZID=America/Chicago:20260417T120000
DTEND;TZID=America/Chicago:20260417T130000
X-MICROSOFT-CDO-ALLDAYEVENT:FALSE
SUMMARY:2026 University of Iowa Food Truck Lunch
DESCRIPTION:🍔🚚 University of Iowa Annual IMS Member Food Truck LunchMark your calendars and bring your appetite!Join us for our Annual University of Iowa Member Food Truck Event   a casual\, come-and-go lunch to celebrate and connect with our physician community.📅 Friday\, April 17\, 2026\n⏰ 12:00 PM   1:00 PM\n📍 MERF CourtyardAll UIHC physicians\, residents\, and medical students are invited to enjoy a FREE lunch from Smiley's Soup and Sandwiches Food Truck.Whether you have a full hour or just a quick break between patients and rounds\, swing by the courtyard\, grab a delicious soup or sandwich\, and connect with colleagues across specialties.Why Attend?🍲 Complimentary lunch (because you deserve it!)🤝 Connect with fellow UIHC colleagues🌷 Enjoy some fresh air and spring vibes in the courtyard⏱ Quick\, easy\, and come-and-go friendly 🎟 Registration RequiredTo attend\, you must register in advance. After registering\, you'll receive a Golden Ticket   be sure to bring it with you (printed or digital) and present it at the truck to receive your complimentary lunch.We look forward to seeing you on April 17 for good food and even better company.
X-ALT-DESC;FMTTYPE=text/html:<!DOCTYPE html><html><head><title></title></head><body aria-disabled="false" data-gr-ext-installed="" data-new-gr-c-s-check-loaded="14.1134.0" data-new-gr-c-s-loaded="14.1134.0"><h2 data-end="59" data-start="0">🍔🚚 University of Iowa Annual IMS Member Food Truck Lunch</h2><p data-end="107" data-start="61">Mark your calendars and bring your appetite!</p><p data-end="263" data-start="109">Join us for our <strong data-end="178" data-start="125" fr-original-style="" style="font-weight: 700\;">Annual University of Iowa Member Food Truck Event</strong> &mdash\; a casual\, come-and-go lunch to celebrate and connect with our physician community.</p><p data-end="347" data-start="265">📅 <strong data-end="294" data-start="268" fr-original-style="" style="font-weight: 700\;">Friday\, April 17\, 2026</strong><br data-start="294" data-end="297">⏰ <strong data-end="321" data-start="299" fr-original-style="" style="font-weight: 700\;">12:00 PM &ndash\; 1:00 PM</strong><br data-start="321" data-end="324">📍 <strong data-end="345" data-start="327" fr-original-style="" style="font-weight: 700\;">MERF Courtyard</strong></p><p data-end="489" data-start="349">All <strong data-end="405" data-start="353" fr-original-style="" style="font-weight: 700\;">UIHC physicians\, residents\, and medical students</strong> are invited to enjoy a <strong data-end="443" data-start="429" fr-original-style="" style="font-weight: 700\;">FREE lunch</strong> from Smiley&#39\;s Soup and Sandwiches Food Truck.</p><p data-end="677" data-start="491">Whether you have a full hour or just a quick break between patients and rounds\, swing by the courtyard\, grab a delicious soup or sandwich\, and connect with colleagues across specialties.</p><h3 data-end="694" data-start="679">Why Attend?</h3><ul fr-original-style="" style="list-style-position: inside\;"><li data-end="745" data-start="697">🍲 Complimentary lunch (because you deserve it!)</li><li data-end="786" data-start="748">🤝 Connect with fellow UIHC colleagues</li><li data-end="846" data-start="789">🌷 Enjoy some fresh air and spring vibes in the courtyard</li><li data-end="888" data-start="849">⏱ Quick\, easy\, and come-and-go friendly</li></ul><h3 data-end="521" data-start="491">&nbsp\;🎟 Registration Required</h3><p data-end="737" data-start="522">To attend\, you <strong data-end="565" data-start="537" fr-original-style="" style="font-weight: 700\;">must register in advance</strong>. After registering\, you&rsquo\;ll receive a <strong data-end="620" data-start="603" fr-original-style="" style="font-weight: 700\;">Golden Ticket</strong> &mdash\; be sure to bring it with you (printed or digital) and present it at the truck to receive your complimentary lunch.</p><p data-end="1011" data-is-last-node="" data-is-only-node="" data-start="931">We look forward to seeing you on April 17 for good food and even better company.</p></body></html>
LOCATION:375 Newton Rd Iowa City IA 52242
UID:e.3819.1413362
SEQUENCE:3
DTSTAMP:20260424T183520Z
URL:https://iowamedicalsociety.growthzoneapp.com/event-calendar/Details/2026-university-of-iowa-food-truck-lunch-1670257?sourceTypeId=Hub
END:VEVENT
END:VCALENDAR
