BEGIN:VCALENDAR
VERSION:2.0
PRODID:-//ChamberMaster//Event Calendar 2.0//EN
METHOD:PUBLISH
X-PUBLISHED-TTL:P1H
REFRESH-INTERVAL:P1H
CALSCALE:GREGORIAN
BEGIN:VTIMEZONE
TZID:America/Chicago
BEGIN:DAYLIGHT
RRULE:FREQ=YEARLY;BYMONTH=3;BYDAY=2SU
DTSTART:20070101T000000
TZOFFSETFROM:-0600
TZOFFSETTO:-0500
TZNAME:Central Daylight Time
END:DAYLIGHT
BEGIN:STANDARD
RRULE:FREQ=YEARLY;BYMONTH=11;BYDAY=1SU
DTSTART:20070101T000000
TZOFFSETFROM:-0500
TZOFFSETTO:-0600
TZNAME:Central Standard Time
END:STANDARD
END:VTIMEZONE
BEGIN:VEVENT
DTSTART;TZID=America/Chicago:20260622T170000
DTEND;TZID=America/Chicago:20260622T180000
X-MICROSOFT-CDO-ALLDAYEVENT:FALSE
SUMMARY:Vital Connections - Ames
DESCRIPTION:IMS Dinner & DialogueAn evening of CME\, conversation\, and connection\nEvent OverviewIMS Dinner & Dialogue is a curated dinner series designed to bring physicians together for meaningful conversation\, peer connection\, and high-quality continuing medical education in a relaxed\, intimate setting.Each event features timely clinical or professional topics\, expert-led discussion\, and opportunities to connect with colleagues in Ames over a shared meal.
X-ALT-DESC;FMTTYPE=text/html:<!DOCTYPE html><html><head><title></title></head><body aria-disabled="false" data-gr-ext-installed="" data-new-gr-c-s-check-loaded="14.1132.0" data-new-gr-c-s-loaded="14.1132.0"><p style="box-sizing: border-box\; margin: 0px 0px 1rem\; color: rgb(51\, 51\, 51)\; font-family: Oxygen\, sans-serif\; font-size: 16px\; font-style: normal\; font-variant-ligatures: normal\; font-variant-caps: normal\; font-weight: 400\; letter-spacing: normal\; orphans: 2\; text-indent: 0px\; text-transform: none\; widows: 2\; word-spacing: 0px\; -webkit-text-stroke-width: 0px\; white-space: normal\; background-color: rgb(255\, 255\, 255)\; text-decoration-thickness: initial\; text-decoration-style: initial\; text-decoration-color: initial\; line-height: normal\; text-align: center\;"><strong fr-original-style="box-sizing: border-box\; font-weight: 700\;" style="box-sizing: border-box\; font-weight: 700\;"><span style="box-sizing: border-box\; font-size: 36px\;">IMS Dinner &amp\; Dialogue</span></strong></p><p style="box-sizing: border-box\; margin: 0px 0px 1rem\; color: rgb(51\, 51\, 51)\; font-family: Oxygen\, sans-serif\; font-size: 16px\; font-style: normal\; font-variant-ligatures: normal\; font-variant-caps: normal\; font-weight: 400\; letter-spacing: normal\; orphans: 2\; text-indent: 0px\; text-transform: none\; widows: 2\; word-spacing: 0px\; -webkit-text-stroke-width: 0px\; white-space: normal\; background-color: rgb(255\, 255\, 255)\; text-decoration-thickness: initial\; text-decoration-style: initial\; text-decoration-color: initial\; line-height: normal\; text-align: center\;"><strong fr-original-style="box-sizing: border-box\; font-weight: 700\;" style="box-sizing: border-box\; font-weight: 700\;">An evening of CME\, conversation\, and connection</strong></p><div align="center" style="box-sizing: border-box\; color: rgb(51\, 51\, 51)\; font-family: Oxygen\, sans-serif\; font-size: 16px\; font-style: normal\; font-variant-ligatures: normal\; font-variant-caps: normal\; font-weight: 400\; letter-spacing: normal\; orphans: 2\; text-indent: 0px\; text-transform: none\; widows: 2\; word-spacing: 0px\; -webkit-text-stroke-width: 0px\; white-space: normal\; background-color: rgb(255\, 255\, 255)\; text-decoration-thickness: initial\; text-decoration-style: initial\; text-decoration-color: initial\; margin-bottom: 0.0001pt\; text-align: center\; line-height: normal\;"><br></div><p style="box-sizing: border-box\; margin: 0px 0px 1rem\; color: rgb(51\, 51\, 51)\; font-family: Oxygen\, sans-serif\; font-size: 16px\; font-style: normal\; font-variant-ligatures: normal\; font-variant-caps: normal\; font-weight: 400\; letter-spacing: normal\; orphans: 2\; text-align: start\; text-indent: 0px\; text-transform: none\; widows: 2\; word-spacing: 0px\; -webkit-text-stroke-width: 0px\; white-space: normal\; background-color: rgb(255\, 255\, 255)\; text-decoration-thickness: initial\; text-decoration-style: initial\; text-decoration-color: initial\; line-height: normal\;"><strong fr-original-style="box-sizing: border-box\; font-weight: 700\;" style="box-sizing: border-box\; font-weight: 700\;">Event Overview</strong></p><p style="box-sizing: border-box\; margin: 0px 0px 1rem\; color: rgb(51\, 51\, 51)\; font-family: Oxygen\, sans-serif\; font-size: 16px\; font-style: normal\; font-variant-ligatures: normal\; font-variant-caps: normal\; font-weight: 400\; letter-spacing: normal\; orphans: 2\; text-align: start\; text-indent: 0px\; text-transform: none\; widows: 2\; word-spacing: 0px\; -webkit-text-stroke-width: 0px\; white-space: normal\; background-color: rgb(255\, 255\, 255)\; text-decoration-thickness: initial\; text-decoration-style: initial\; text-decoration-color: initial\; line-height: normal\;">IMS Dinner &amp\; Dialogue is a curated dinner series designed to bring physicians together for meaningful conversation\, peer connection\, and high-quality continuing medical education in a relaxed\, intimate setting.</p><p style="box-sizing: border-box\; margin: 0px 0px 1rem\; color: rgb(51\, 51\, 51)\; font-family: Oxygen\, sans-serif\; font-size: 16px\; font-style: normal\; font-variant-ligatures: normal\; font-variant-caps: normal\; font-weight: 400\; letter-spacing: normal\; orphans: 2\; text-align: start\; text-indent: 0px\; text-transform: none\; widows: 2\; word-spacing: 0px\; -webkit-text-stroke-width: 0px\; white-space: normal\; background-color: rgb(255\, 255\, 255)\; text-decoration-thickness: initial\; text-decoration-style: initial\; text-decoration-color: initial\; line-height: normal\;">Each event features timely clinical or professional topics\, expert-led discussion\, and opportunities to connect with colleagues in Ames over a shared meal.</p></body></html>
LOCATION:
UID:e.3819.1381361
SEQUENCE:3
DTSTAMP:20260424T183525Z
URL:https://iowamedicalsociety.growthzoneapp.com/event-calendar/Details/vital-connections-ames-1631109?sourceTypeId=Hub
END:VEVENT
END:VCALENDAR
